Workbook

Sheet Instructions
A1: 1 | B1: Ensure that you have all the supporting documents to support any claim you may make.
A2: 2 | B2: Fill in all the relevant information in the Data Form making sure that the fields marked with the asterisks are filled.
A3: 3 | B3: Once you have completed the data form select the Summary sheet and use that data to complete your TAMIS form. The summary sheet will mirror the fields on your TAMIS form .
A4: 4 | B4: You must save both Data Form and Summary sheets as PDF documents and attach them to your TAMIS form when you submit that form.
A5: 5 | B5: All other supporting documents must be scanned and attach.
A6: 6 | B6: No claims will be approved without relevant supporting documentation.
A7: 7 | B7: Please note that you must have a TAMIS TIN.

Sheet Divided Income Form
B1: DIVIDED INCOME RETURN | C1: YEAR | N1: 11
B2: TIN | C2: TAMIS | F2: Etax | J2: Etax
B3: NAME
B4: ='Divided Income Return'!B6:I6 -> Taxpayers must have valid TAMIS TINs
B5: GENERAL INSTRUCTIONS
B6: - All Senior Partners MUST complete parts A and F - Taxpayers who have income from trade or business other than from agriculture & fisheries, and/or residential rent MUST complete parts B & D - Taxpayers who have income from agriculture & fisheries MUST complete parts C & D - Taxpayers who have income from residential rent MUST complete part E
B7: PART A - BALANCE SHEET AT END OF YEAR
B8: Assets
B9: ='Divided Income Return'!B9:G9 -> Cash & Equivalents (uncashed cheques, chequing accts, savings…) | G9: 30 | I9: 0
B10: ='Divided Income Return'!B10:G10 -> Accounts Receivable | G10: 40 | I10: 0
B11: ='Divided Income Return'!B11:G11 -> Loans to Partners | G11: 50 | I11: 0
B12: ='Divided Income Return'!B12:G12 -> Other Current, Short-term and Long-term Assets | G12: 60 | I12: 0
B13: ='Divided Income Return'!B14:I14 -> Liabilities
B14: ='Divided Income Return'!B15:G15 -> All Current, Short-term and Long-term Liabilities | G14: 80 | I14: 0
B15: ='Divided Income Return'!B17:G17 -> Equity | K15: NET ASSETS MUST BE EQUAL TO SHAREHOLDERS EQIUTY
B16: ='Divided Income Return'!B18:G18 -> Partners Equity | G16: 100 | I16: 0 | J16: =IF(#REF!-(I14+I16)=0,0,K15) -> #REF!
B17: PART B – INCOME FROM TRADE, BUSINESS, INVESTMENTS AND NON-RESIDENTIAL RENTAL PROPERTY
B18: ='Divided Income Return'!B20:I20 -> Income
B19: ='Divided Income Return'!B21:G21 -> Trade Sales of Goods and Service - Domestic Income | G19: 170 | I19: 0
B20: ='Divided Income Return'!B22:G22 -> Trade Sales of Goods and Service - Exports | G20: 180 | I20: 0
B21: ='Divided Income Return'!B23:G23 -> Domestic Investment Income | G21: 190 | I21: 0
B22: ='Divided Income Return'!B24:G24 -> Foreign Investment Income | G22: 200 | I22: 0
B23: ='Divided Income Return'!B25:G25 -> Total Rental Income (Excluding Residential Property) | G23: 210 | I23: 0
B24: ='Divided Income Return'!B26:G26 -> Other Income | G24: 220 | I24: 0
B25: ='Divided Income Return'!B27:G27 -> Total Income | G25: 230 | I25: ='Divided Income Return'!I27 -> 0
B26: ='Divided Income Return'!B28:I28 -> Cost of Sales
B27: ='Divided Income Return'!B29:G29 -> Opening Inventory | G27: 235 | I27: 0
B28: ='Divided Income Return'!B30:G30 -> Purchases during year | G28: 240 | I28: 0
B29: ='Divided Income Return'!B31:G31 -> Closing Inventory | G29: 250 | I29: 0
B30: ='Divided Income Return'!B32:G32 -> Cost of Sales | G30: 260 | I30: ='Divided Income Return'!I32 -> 0
B31: ='Divided Income Return'!B33:I33 -> Operating Expenses
B32: ='Divided Income Return'!B34:G34 -> Labour Cost | G32: 270 | I32: 0
B33: ='Divided Income Return'!B35:G35 -> Commissions | G33: 280 | I33: 0
B34: ='Divided Income Return'!B36:G36 -> Management Fees | G34: 290 | I34: 0
B35: ='Divided Income Return'!B37:G37 -> Directors’ Fees | G35: 300 | I35: 0
B36: ='Divided Income Return'!B38:G38 -> Depreciation (as per Financial Statements) | G36: 310 | I36: 0
B37: ='Divided Income Return'!B39:G39 -> Bad Debt | G37: 320 | I37: 0
B38: ='Divided Income Return'!B40:G40 -> Other Expenses | G38: 330 | I38: 0
B39: ='Divided Income Return'!B41:G41 -> Total Operating Expenses | G39: 340 | I39: ='Divided Income Return'!I41 -> 0
B40: ='Divided Income Return'!B42:G42 -> Net Trade, Business, Investment and Non-residential Income/Loss | G40: 350 | I40: ='Divided Income Return'!I42 -> 0
...

Sheet Divided Income Return
B1: DIVIDED INCOME RETURN | C1: YEAR | D1: ='Divided Income Form'!D1 -> 0 | V1: YEARS
B2: TIN | C2: TAMIS | D2: ='Divided Income Form'!D2 -> 0 | G2: Etax | H2: ='Divided Income Form'!G2:I2 -> 0 | V2: 2010
B3: NAME | C3: ='Divided Income Form'!C3 -> 0 | V3: 2011
B4: GENERAL INSTRUCTIONS | V4: 2012
B5: - All Senior Partners MUST complete parts A and F - Taxpayers who have income from trade or business other than from agriculture & fisheries, and/or residential rent MUST complete parts B & D - Taxpayers who have income from agriculture & fisheries MUST complete parts C & D - Taxpayers who have income from residential rent MUST complete part E | V5: 2013
B6: Taxpayers must have valid TAMIS TINs | V6: 2014
B7: PART A - BALANCE SHEET AT END OF YEAR | V7: 2015
B8: Assets | V8: 2016
B9: Cash & Equivalents (uncashed cheques, chequing accts, savings…) | H9: 30 | I9: ='Divided Income Form'!I9 -> 0 | V9: 2017
B10: Accounts Receivable | H10: 40 | I10: ='Divided Income Form'!I10 -> 0
B11: Loans to Partners | H11: 50 | I11: ='Divided Income Form'!I11 -> 0
B12: Other Current, Short-term and Long-term Assets | H12: 60 | I12: ='Divided Income Form'!I12 -> 0
B13: Total Assets | H13: 70 | I13: =SUM(I9:I12) -> 0
B14: Liabilities
B15: All Current, Short-term and Long-term Liabilities | H15: 80 | I15: ='Divided Income Form'!I15 -> 0
B16: Net Assets | H16: 90 | I16: =SUM(I13-I15) -> 0
B17: Equity
B18: Partners Equity | H18: 100 | I18: ='Divided Income Form'!I16 -> 0
B19: PART B – INCOME FROM TRADE, BUSINESS, INVESTMENTS AND NON-RESIDENTIAL RENTAL PROPERTY
B20: Income
B21: Trade Sales of Goods and Service - Domestic Income | H21: 170 | I21: ='Divided Income Form'!I19 -> 0
B22: Trade Sales of Goods and Service - Exports | H22: 180 | I22: ='Divided Income Form'!I20 -> 0
B23: Domestic Investment Income | H23: 190 | I23: ='Divided Income Form'!I21 -> 0
B24: Foreign Investment Income | H24: 200 | I24: ='Divided Income Form'!I22 -> 0
B25: Total Rental Income (Excluding Residential Property) | H25: 210 | I25: ='Divided Income Form'!I23 -> 0
B26: Other Income | H26: 220 | I26: ='Divided Income Form'!I24 -> 0
B27: Total Income | H27: 230 | I27: =SUM(I21:I26) -> 0
B28: Cost of Sales
B29: Opening Inventory | H29: 235 | I29: ='Divided Income Form'!I27 -> 0
B30: Purchases during year | H30: 240 | I30: ='Divided Income Form'!I28 -> 0
B31: Closing Inventory | H31: 250 | I31: ='Divided Income Form'!I29 -> 0
B32: Cost of Sales | H32: 260 | I32: =SUM(I29+I30-I31) -> 0
B33: Operating Expenses
B34: Labour Cost | H34: 270 | I34: ='Divided Income Form'!I32 -> 0
B35: Commissions | H35: 280 | I35: ='Divided Income Form'!I33 -> 0
B36: Management Fees | H36: 290 | I36: ='Divided Income Form'!I34 -> 0
B37: Directors’ Fees | H37: 300 | I37: ='Divided Income Form'!I35 -> 0
B38: Depreciation (as per Financial Statements) | H38: 310 | I38: ='Divided Income Form'!I36 -> 0
B39: Bad Debt | H39: 320 | I39: ='Divided Income Form'!I37 -> 0
B40: Other Expenses | H40: 330 | I40: ='Divided Income Form'!I38 -> 0
...

Sheet Sheet1
A1: ='Divided Income Return'!B1 -> DIVIDED INCOME RETURN | C1: ='Divided Income Return'!B1:I1 -> YEAR
A2: ='Divided Income Return'!B5:B5 -> - All Senior Partners MUST complete parts A and F - Taxpayers who have income from trade or business other than from agriculture & fisheries, and/or residential rent MUST complete parts B & D - Taxpayers who have income from agriculture & fisheries MUST complete parts C & D - Taxpayers who have income from residential rent MUST complete part E
A3: ='Divided Income Return'!B7:B7 -> PART A - BALANCE SHEET AT END OF YEAR
B4: ='Divided Income Return'!B8:I8 -> Assets
B5: ='Divided Income Return'!B9:I9 -> Cash & Equivalents (uncashed cheques, chequing accts, savings…) | H5: ='Divided Income Return'!H9 -> 30 | I5: ='Divided Income Return'!I9 -> 0
B6: ='Divided Income Return'!B10:I10 -> Accounts Receivable | H6: ='Divided Income Return'!H10 -> 40 | I6: ='Divided Income Return'!I10 -> 0
B7: ='Divided Income Return'!B11:I11 -> Loans to Partners | H7: ='Divided Income Return'!H11 -> 50 | I7: ='Divided Income Return'!I11 -> 0
B8: ='Divided Income Return'!B12:I12 -> Other Current, Short-term and Long-term Assets | H8: ='Divided Income Return'!H12 -> 60 | I8: ='Divided Income Return'!I12 -> 0
B9: ='Divided Income Return'!B13:I13 -> Total Assets | H9: ='Divided Income Return'!H13 -> 70 | I9: ='Divided Income Return'!I13 -> 0
B10: ='Divided Income Return'!B14:I14 -> Liabilities
B11: ='Divided Income Return'!B15:I15 -> All Current, Short-term and Long-term Liabilities | H11: ='Divided Income Return'!H15 -> 80 | I11: ='Divided Income Return'!I15 -> 0
B12: ='Divided Income Return'!B16:I16 -> Net Assets | H12: ='Divided Income Return'!H16 -> 90 | I12: ='Divided Income Return'!I16 -> 0
B13: ='Divided Income Return'!B17:I17 -> Equity
B14: ='Divided Income Return'!B18:I18 -> Partners Equity | H14: ='Divided Income Return'!H18 -> 100 | I14: ='Divided Income Return'!I18 -> 0
A15: ='Divided Income Return'!B19:B19 -> PART B – INCOME FROM TRADE, BUSINESS, INVESTMENTS AND NON-RESIDENTIAL RENTAL PROPERTY
B16: ='Divided Income Return'!B20:I20 -> Income
B17: ='Divided Income Return'!B21:I21 -> Trade Sales of Goods and Service - Domestic Income | H17: ='Divided Income Return'!H21 -> 170 | I17: ='Divided Income Return'!I21 -> 0
B18: ='Divided Income Return'!B22:I22 -> Trade Sales of Goods and Service - Exports | H18: ='Divided Income Return'!H22 -> 180 | I18: ='Divided Income Return'!I22 -> 0
B19: ='Divided Income Return'!B23:I23 -> Domestic Investment Income | H19: ='Divided Income Return'!H23 -> 190 | I19: ='Divided Income Return'!I23 -> 0
B20: ='Divided Income Return'!B24:I24 -> Foreign Investment Income | H20: ='Divided Income Return'!H24 -> 200 | I20: ='Divided Income Return'!I24 -> 0
B21: ='Divided Income Return'!B25:I25 -> Total Rental Income (Excluding Residential Property) | H21: ='Divided Income Return'!H25 -> 210 | I21: ='Divided Income Return'!I25 -> 0
B22: ='Divided Income Return'!B26:I26 -> Other Income | H22: ='Divided Income Return'!H26 -> 220 | I22: ='Divided Income Return'!I26 -> 0
B23: ='Divided Income Return'!B27:I27 -> Total Income | H23: ='Divided Income Return'!H27 -> 230 | I23: ='Divided Income Return'!I27 -> 0
B24: ='Divided Income Return'!B28:I28 -> Cost of Sales | H24: ='Divided Income Return'!H28 -> 0 | I24: ='Divided Income Return'!I28 -> 0
B25: ='Divided Income Return'!B29:I29 -> Opening Inventory | H25: ='Divided Income Return'!H29 -> 235 | I25: ='Divided Income Return'!I29 -> 0
B26: ='Divided Income Return'!B30:I30 -> Purchases during year | H26: ='Divided Income Return'!H30 -> 240 | I26: ='Divided Income Return'!I30 -> 0
B27: ='Divided Income Return'!B31:I31 -> Closing Inventory | H27: ='Divided Income Return'!H31 -> 250 | I27: ='Divided Income Return'!I31 -> 0
B28: ='Divided Income Return'!B32:I32 -> Cost of Sales | H28: ='Divided Income Return'!H32 -> 260 | I28: ='Divided Income Return'!I32 -> 0
... B38: ='Divided Income Return'!B42:I42 -> Net Trade, Business, Investment and Non-residential Income/Loss | H38: ='Divided Income Return'!H42 -> 350 | I38: ='Divided Income Return'!I42 -> 0
A39: ='Divided Income Return'!B43:B43 -> PART C – INCOME FROM AGRICULTURE AND FISHERIES
B40: ='Divided Income Return'!B44:I44 -> Gross Income
B41: ='Divided Income Return'!B45:I45 -> Income from sale of Cane | H41: ='Divided Income Return'!H45 -> 370 | I41: ='Divided Income Return'!I45 -> 0
B42: ='Divided Income Return'!B46:I46 -> Ground Provision, Vegetables and Fruit | H42: ='Divided Income Return'!H46 -> 380 | I42: ='Divided Income Return'!I46 -> 0
B43: ='Divided Income Return'!B47:I47 -> Livestock | H43: ='Divided Income Return'!H47 -> 390 | I43: ='Divided Income Return'!I47 -> 0
B44: ='Divided Income Return'!B48:I48 -> Fisheries | H44: ='Divided Income Return'!H48 -> 400 | I44: ='Divided Income Return'!I48 -> 0
B45: ='Divided Income Return'!B49:I49 -> Gross Income from Agriculture & Fisheries | H45: ='Divided Income Return'!H49 -> 410 | I45: ='Divided Income Return'!I49 -> 0
B46: ='Divided Income Return'!B50:I50 -> Expenses
B47: ='Divided Income Return'!B51:I51 -> Agricultural Labour | H47: ='Divided Income Return'!H51 -> 420 | I47: ='Divided Income Return'!I51 -> 0
B48: ='Divided Income Return'!B52:I52 -> Management Fees | H48: ='Divided Income Return'!H52 -> 430 | I48: ='Divided Income Return'!I52 -> 0
B49: ='Divided Income Return'!B53:I53 -> Depreciation (as per Financial Statements) | H49: ='Divided Income Return'!H53 -> 440 | I49: ='Divided Income Return'!I53 -> 0
...

Sheet TAMIS
B1: DIVIDED INCOME RETURN | E1: Year | G1: ='Divided Income Return'!D1 -> 0
B3: ='Divided Income Return'!C3 -> 0 | E3: TIN | G3: ='Divided Income Return'!D2 -> 0
G4: ='Divided Income Return'!H2 -> 0
B5: Gross Income From Trade, Business, Investments And Non-Rresidential Rrental Property
E6: 230 | G6: ='Divided Income Return'!I27 -> 0
B8: Gross Income from Agriculture & Fisheries
E9: 410 | G9: ='Divided Income Return'!I49 -> 0
B11: Net Income/ Loss from Trade, Business, Investments, Agriculture & Ffisheries, and Non-Residential Property
E12: 600 | G12: ='Divided Income Return'!I70 -> 0
B14: Gross Residential Rental Income
E15: 680 | G15: ='Divided Income Return'!I73 -> 0
B17: Net Residential Income/Loss during year
E18: 840 | G18: ='Divided Income Return'!I90 -> 0
